BEGIN:VCALENDAR
VERSION:2.0
PRODID:-//ChamberMaster//Event Calendar 2.0//EN
METHOD:PUBLISH
X-PUBLISHED-TTL:P3D
REFRESH-INTERVAL:P3D
CALSCALE:GREGORIAN
BEGIN:VEVENT
DTSTART;VALUE=DATE:20221215
DTEND;VALUE=DATE:20221216
TRANSP:TRANSPARENT
X-MICROSOFT-CDO-ALLDAYEVENT:TRUE
SUMMARY:MEMBERS LIST
DESCRIPTION:We want to take a moment to acknowledge all of the GCCC members.  Please review the list and definitely support them in every way!\n\n\n\nonline directory available !!!!!!!!\n\n\n\nhttps://www.gcchamber.com/list/search?q=all&o=alpha&st=0.\n\nor\n\nwww.gcchamber.com  and go to directory
X-ALT-DESC;FMTTYPE=text/html:We want to take a moment to acknowledge all of the GCCC members.&nbsp\; Please review the list and definitely support them in every way!<br />\n<br />\n<span style="color: rgb(99\, 99\, 99)\; font-family: &quot\;Arial Narrow&quot\;\, Arial\, sans-serif\; font-size: 15px\;">online directory available !!!!!!!!</span><br />\n<br style="box-sizing: border-box\; color: rgb(99\, 99\, 99)\; font-family: &quot\;Arial Narrow&quot\;\, Arial\, sans-serif\; font-size: 15px\;" />\n<span style="color: rgb(99\, 99\, 99)\; font-family: &quot\;Arial Narrow&quot\;\, Arial\, sans-serif\; font-size: 15px\;">https://www.gcchamber.com/list/search?q=all&amp\;o=alpha&amp\;st=0.</span><br style="box-sizing: border-box\; color: rgb(99\, 99\, 99)\; font-family: &quot\;Arial Narrow&quot\;\, Arial\, sans-serif\; font-size: 15px\;" />\n<span style="color: rgb(99\, 99\, 99)\; font-family: &quot\;Arial Narrow&quot\;\, Arial\, sans-serif\; font-size: 15px\;">or</span><br style="box-sizing: border-box\; color: rgb(99\, 99\, 99)\; font-family: &quot\;Arial Narrow&quot\;\, Arial\, sans-serif\; font-size: 15px\;" />\n<span style="color: rgb(99\, 99\, 99)\; font-family: &quot\;Arial Narrow&quot\;\, Arial\, sans-serif\; font-size: 15px\;">www.gcchamber.com&nbsp\; and go to directory</span><br style="box-sizing: border-box\; color: rgb(99\, 99\, 99)\; font-family: &quot\;Arial Narrow&quot\;\, Arial\, sans-serif\; font-size: 15px\;" />\n<span style="color: rgb(99\, 99\, 99)\; font-family: &quot\;Arial Narrow&quot\;\, Arial\, sans-serif\; font-size: 15px\;">&nbsp\;</span>
LOCATION:online directory available https://www.gcchamber.com/list/search?q=all&o=alpha&st=0. or www.gcchamber.com and go to directory
UID:e.1849.367
SEQUENCE:3
DTSTAMP:20260421T070840Z
URL:http://business.gcchamber.com/events/details/members-list-367
END:VEVENT

END:VCALENDAR
