BEGIN:VCALENDAR
VERSION:2.0
PRODID:-//ChamberMaster//Event Calendar 2.0//EN
METHOD:PUBLISH
X-PUBLISHED-TTL:P3D
REFRESH-INTERVAL:P3D
CALSCALE:GREGORIAN
BEGIN:VEVENT
DTSTART:20220921T153000Z
DTEND:20220921T173000Z
X-MICROSOFT-CDO-ALLDAYEVENT:FALSE
SUMMARY:Meet and Greet Networking Luncheon at Chili Library
DESCRIPTION:The Chamber in collaboration with Campaign D (Autism Awareness) is hosting a Meet and Greet at the Chili Public Library. Come and network with fellow businesses\, hear Campaign D describe their operation in the Gates Location\, and take a tour of the new Chili Public Library Facility. \n\n\n\nCampaign D was formed by a group of individuals living on the Autism Spectrum that are sharing the authentic experience of having Autism. Using their creative talents they formed a team to change the stereotype that exists in world of Autism
X-ALT-DESC;FMTTYPE=text/html:<br />\n<span style="font-size:20px\;"><span style="font-size:18px\;"><span style="caret-color: rgb(5\, 5\, 5)\; color: rgb(5\, 5\, 5)\; font-family: system-ui\, -apple-system\, BlinkMacSystemFont\, &quot\;.SFNSText-Regular&quot\;\, sans-serif\; text-size-adjust: auto\;">The Chamber in collaboration with </span><span style="caret-color: rgb(5\, 5\, 5)\; font-family: system-ui\, -apple-system\, BlinkMacSystemFont\, &quot\;.SFNSText-Regular&quot\;\, sans-serif\; text-size-adjust: auto\;"><a href="https://www.campaignd.com/"><span style="color:#000080\;">Campaign D (Autism Awareness)</span></a><span style="color:#000000\;"> </span></span><span style="caret-color: rgb(5\, 5\, 5)\; color: rgb(5\, 5\, 5)\; font-family: system-ui\, -apple-system\, BlinkMacSystemFont\, &quot\;.SFNSText-Regular&quot\;\, sans-serif\; text-size-adjust: auto\;">is hosting a Meet and Greet at the Chili Public Library. Come and network with fellow businesses\, hear </span><span style="caret-color: rgb(5\, 5\, 5)\; font-family: system-ui\, -apple-system\, BlinkMacSystemFont\, &quot\;.SFNSText-Regular&quot\;\, sans-serif\; text-size-adjust: auto\;"><a href="https://www.campaignd.com/"><span style="color:#000080\;">Campaign D</span></a></span><span style="caret-color: rgb(5\, 5\, 5)\; color: rgb(5\, 5\, 5)\; font-family: system-ui\, -apple-system\, BlinkMacSystemFont\, &quot\;.SFNSText-Regular&quot\;\, sans-serif\; text-size-adjust: auto\;"> d</span><span style="color: rgb(5\, 5\, 5)\; font-family: system-ui\, -apple-system\, BlinkMacSystemFont\, &quot\;.SFNSText-Regular&quot\;\, sans-serif\; caret-color: rgb(5\, 5\, 5)\; background-color: rgb(255\, 255\, 255)\;">escribe their operation in the Gates Location\, and take a tour of the new </span><span style="font-family: system-ui\, -apple-system\, BlinkMacSystemFont\, &quot\;.SFNSText-Regular&quot\;\, sans-serif\; caret-color: rgb(5\, 5\, 5)\; background-color: rgb(255\, 255\, 255)\;"><a href="http://www.chililibrary.org/"><span style="color:#000080\;">Chili Public Library</span></a></span><span style="color: rgb(5\, 5\, 5)\; font-family: system-ui\, -apple-system\, BlinkMacSystemFont\, &quot\;.SFNSText-Regular&quot\;\, sans-serif\; caret-color: rgb(5\, 5\, 5)\; background-color: rgb(255\, 255\, 255)\;"> Facility.&nbsp\;</span></span><br />\n<br />\n<span style="font-size:18px\;"><span style="font-family: system-ui\, -apple-system\, BlinkMacSystemFont\, &quot\;.SFNSText-Regular&quot\;\, sans-serif\; caret-color: rgb(5\, 5\, 5)\; background-color: rgb(255\, 255\, 255)\;"><a href="https://www.campaignd.com/"><span style="color:#000080\;">Campaign D</span></a></span><span style="color: rgb(5\, 5\, 5)\; font-family: system-ui\, -apple-system\, BlinkMacSystemFont\, &quot\;.SFNSText-Regular&quot\;\, sans-serif\; caret-color: rgb(5\, 5\, 5)\; background-color: rgb(255\, 255\, 255)\;">&nbsp\;</span><span style="caret-color: rgb(5\, 5\, 5)\; color: rgb(5\, 5\, 5)\; font-family: system-ui\, -apple-system\, BlinkMacSystemFont\, &quot\;.SFNSText-Regular&quot\;\, sans-serif\; text-size-adjust: auto\;">was formed by a group of individuals living on the Autism Spectrum that are sharing the authentic experience of having Autism. Using their creative talents they formed a team to change the stereotype that exists in world of Autism&nbsp\;</span></span></span>
LOCATION:Chili Public Library Chili Community Center 3237 Chili Avenue Rochester\, NY 14624
UID:e.1849.366
SEQUENCE:3
DTSTAMP:20260421T145526Z
URL:http://business.gcchamber.com/events/details/meet-and-greet-networking-luncheon-at-chili-library-366
END:VEVENT

END:VCALENDAR
