BEGIN:VCALENDAR
VERSION:2.0
PRODID:-//ChamberMaster//Event Calendar 2.0//EN
METHOD:PUBLISH
X-PUBLISHED-TTL:P3D
REFRESH-INTERVAL:P3D
CALSCALE:GREGORIAN
BEGIN:VEVENT
DTSTART:20220118T163000Z
DTEND:20220118T183000Z
X-MICROSOFT-CDO-ALLDAYEVENT:FALSE
SUMMARY:Katie Borchers: “Increase Revenue with Past Due Success”
DESCRIPTION:Happy New Year!\n\n\n\nThe Chamber is starting off the new year with an excellent presentation by Katie Borchers titled:  "Increase Revenue with Past Due Success". \n\nOverview\n\n	Improve your internal workflows\, contracts\, and conversations with your customers to decrease your past due payments.\n	Recognize when outside help is needed and choose the services and company that aligns with your brand to protect your reputation.\n\n\nKatie Borchers is the owner and President of Beyond Green Solutions\, a local Collection Agency helping local businesses reduce past dues and increase lost revenue.
X-ALT-DESC;FMTTYPE=text/html:Happy New Year!<br />\n<br />\nThe Chamber is starting off the new year with an excellent presentation by Katie Borchers titled:&nbsp\;<span style="color: rgb(34\, 34\, 34)\; font-family: Arial\, Helvetica\, sans-serif\; font-size: small\; background-color: rgb(255\, 255\, 255)\;">&nbsp\;&ldquo\;Increase Revenue with Past Due Success&rdquo\;.&nbsp\;</span><br />\nOverview\n<ul>\n	<li style="margin-left:0in\;">Improve your internal workflows\, contracts\, and conversations with your customers to decrease your past due payments.</li>\n	<li style="margin-left:0in\;">Recognize when outside help is needed and choose the services and company that aligns with your brand to protect your reputation.</li>\n</ul>\n\n<div style="margin-left:0in\;">Katie Borchers is the owner and President of Beyond Green Solutions\, a local Collection Agency helping local businesses reduce past dues and increase lost revenue.</div>\n
LOCATION:Bill Grays Two Fronts Plaza Chili Avenue
UID:e.1849.356
SEQUENCE:3
DTSTAMP:20260422T042758Z
URL:http://business.gcchamber.com/events/details/katie-borchers-increase-revenue-with-past-due-success-356
END:VEVENT

END:VCALENDAR
