BEGIN:VCALENDAR
VERSION:2.0
PRODID:-//ChamberMaster//Event Calendar 2.0//EN
METHOD:PUBLISH
X-PUBLISHED-TTL:P3D
REFRESH-INTERVAL:P3D
CALSCALE:GREGORIAN
BEGIN:VEVENT
DTSTART:20231114T163000Z
DTEND:20231114T180000Z
X-MICROSOFT-CDO-ALLDAYEVENT:FALSE
SUMMARY:CANCELLED: Vision of the Future
DESCRIPTION:Annual Vision of the Future: The Chamber will be holding its annual meeting and featuring a panel discussion that will include Gates Supervisor Cosmo Giunta\, Matt Hurlbutt\, President and CEO of Greater Rochester Enterprise and Ana Liss\, Director of Planning and Development for Monroe County.
X-ALT-DESC;FMTTYPE=text/html:Annual Vision of the Future: The Chamber will be holding its annual meeting and featuring a panel discussion that will include Gates Supervisor Cosmo Giunta\, Matt Hurlbutt\, President and CEO of Greater Rochester Enterprise and Ana Liss\, Director of Planning and Development for Monroe County.<br style="box-sizing: border-box\; color: rgb(99\, 99\, 99)\; font-family: &quot\;Arial Narrow&quot\;\, Arial\, sans-serif\; font-size: 15px\; background-color: rgb(255\, 255\, 255)\;" />\n&nbsp\;
LOCATION:
UID:e.1849.376
SEQUENCE:3
DTSTAMP:20260420T114601Z
URL:http://business.gcchamber.com/events/details/cancelled-vision-of-the-future-376
END:VEVENT

END:VCALENDAR
