BEGIN:VCALENDAR
VERSION:2.0
PRODID:-//ChamberMaster//Event Calendar 2.0//EN
METHOD:PUBLISH
X-PUBLISHED-TTL:P3D
REFRESH-INTERVAL:P3D
CALSCALE:GREGORIAN
BEGIN:VEVENT
DTSTART:20211214T163000Z
DTEND:20211214T183000Z
X-MICROSOFT-CDO-ALLDAYEVENT:FALSE
SUMMARY:Annual Christmas Holiday Luncheon
DESCRIPTION:Tuesday\, December 14th\, 2021 the Chamber will be celebrating the holidays with its Annual Christmas Luncheon at Brook Lea Country Club.\n\nThe Churchville Chili Saxophone Ensemble will be performing at the event!
X-ALT-DESC;FMTTYPE=text/html:Tuesday\, December 14th\, 2021 the Chamber will be&nbsp\;celebrating the holidays with its Annual Christmas Luncheon at Brook Lea Country Club.<br />\nThe Churchville Chili Saxophone Ensemble&nbsp\;will be performing at the event!&nbsp\;
LOCATION:Brook Lea Country Club
UID:e.1849.353
SEQUENCE:3
DTSTAMP:20260422T062812Z
URL:http://business.gcchamber.com/events/details/annual-christmas-holiday-luncheon-353
END:VEVENT

END:VCALENDAR
