BEGIN:VCALENDAR
VERSION:2.0
PRODID:-//ChamberMaster//Event Calendar 2.0//EN
METHOD:PUBLISH
X-PUBLISHED-TTL:P3D
REFRESH-INTERVAL:P3D
CALSCALE:GREGORIAN
BEGIN:VEVENT
DTSTART:20211020T213000Z
DTEND:20211021T003000Z
X-MICROSOFT-CDO-ALLDAYEVENT:FALSE
SUMMARY:36th Annual Community Awards Dinner Gala
DESCRIPTION:36TH ANNUAL COMMUNITY AWARDS GALA\n\nWednesday\, October 20\, 2021\n\n \nDoug Emblidge WHAM 13 will be emceeing our event!\n\n \n\nJoin us in congratulating our 2021 Winners:\n\n\n\nBeautification Awards   Town of Gates & Town of Chili (one each)\n\nRecognizes an individual or organization for new construction or restoration of existing facilities to enhance the area.\n\nChili - Chili Community Center\n\nGates - 2320 Lyell Avenue \n\n\n\nJoseph Entress Memorial Award   Economic Development\n\nRecognizes an individual or organization for on-going improvement encouraging continued economic development in the area.\n\nC&M Forwarding\n\n \n\nInnovative Business Award\n\nAcknowledges an existing or recent addition to the business community which has stimulated economic growth and commerce\, with regards to product demand and originality of the enterprise.\n\nMicron Technologies\n\n \n\nCulture and Arts Award\n\nRecognizes an individual or organization whose talents or patronage have strengthened the understanding\, appreciation\, and support of art and culture as an integral part of community life.\n\nEast Coast Training Center\n\n \n\nOutstanding Citizen\n\nRecognizes an individual located in or servicing the Gates and Chili area\, who has contributed to the betterment of the community.\n\nKrystin Letta \n\n \n\nYouth Leadership Award\n\nAcknowledges a youth group or individual (21 years or under) who lives or works in the Gates and Chili area who has provided leadership in a business or business association\, community service to others and serves as a role model among their peers.\n\nBrooke Leary\n\n \n\nDream Big Award - Small Business of the Year Award\n\nThis award embodies the Spirit of Innovation-they often start small but DREAM BIG. We applaud the example they set and the enormous contribution they make to our area's economy.\n\nLunt Chiropractic\n\n \n\nYoung Professionals Award\n\nAcknowledges an emerging leader between the ages of 22 and 36 who demonstrates excellence\, creativity\, and initiative in their business or profession\, has a proven commitment to service by contributing time and energy to improving the quality of life of others in the community and serves as a role model both personally and professionally.\n\nJeremy Sajdak\n\n \n\nLoretta Simmons Women's Leadership Award\n\nNamed after the Chamber's first president\, this award honors women in leadership roles throughout the area who contribute to the betterment of the community.\n\nTracy DiFlorio\n\n\n\nBelow are some photos taken of the award presentations made to our 2020 award winners.
X-ALT-DESC;FMTTYPE=text/html:<div style="text-align: center\;"><span style="color:#0000CD\;"><span style="font-size:18px\;"><strong>36TH ANNUAL COMMUNITY AWARDS GALA</strong><br />\nWednesday\, October 20\, 2021</span></span><br />\n&nbsp\;</div>\n<span style="color:#0000CD\;"><span style="font-size:14px\;"><span font-style:="" font-weight:="" style="font-family: sans-serif\, Arial\, Verdana\, " trebuchet=""><span style="font-family: arial\;"><span style="font-size:18px\;"><strong>Doug Emblidge WHAM 13 will be emceeing our event!</strong></span><br />\n&nbsp\;</span></span></span></span><br />\n<strong><span style="border:none windowtext 1.0pt\;padding:0in\;"><span style="color:navy\;"><span style="font-family:arial narrow\,sans-serif\;"><span style="font-size:11.5pt\;"><span style="font-size:20px\;">Join us in congratulating our 2021 Winners:</span><br />\n<br />\nBeautification Awards&nbsp\;</span></span></span></span></strong><em style="outline:0px\;"><strong><span style="border:none windowtext 1.0pt\;padding:0in\;"><span style="color:navy\;"><span style="font-family:arial narrow\,sans-serif\;"><span style="font-size:11.5pt\;">&ndash\;&nbsp\;</span></span></span></span></strong></em><strong><span style="border:none windowtext 1.0pt\;padding:0in\;"><span style="color:navy\;"><span style="font-family:arial narrow\,sans-serif\;"><span style="font-size:11.5pt\;">Town of Gates &amp\; Town of Chili (one each)</span></span></span></span></strong><br />\n<em style="outline:0px\;"><span style="border:none windowtext 1.0pt\;padding:0in\;"><span style="color:navy\;"><span style="font-family:arial narrow\,sans-serif\;"><span style="font-size:11.5pt\;">Recognizes an individual or organization for new construction or restoration of existing facilities to enhance the area<strong>.</strong></span></span></span></span></em><br />\n<strong style="outline:0px\;"><span style="border:none windowtext 1.0pt\;padding:0in\;"><span style="color:navy\;"><span style="font-family:arial narrow\,sans-serif\;"><span style="font-size:11.5pt\;">Chili - Chili Community Center</span></span></span></span></strong><br />\n<strong><span style="border:none windowtext 1.0pt\;padding:0in\;"><span style="color:navy\;"><span style="font-family:arial narrow\,sans-serif\;"><span style="font-size:11.5pt\;">Gates - 2320 Lyell Avenue&nbsp\;</span></span></span></span></strong><br />\n<br />\n<strong style="outline:0px\;"><span style="border:none windowtext 1.0pt\;padding:0in\;"><span style="color:navy\;"><span style="font-family:arial narrow\,sans-serif\;"><span style="font-size:11.5pt\;">Joseph Entress Memorial Award&nbsp\;</span></span></span></span></strong><em style="outline:0px\;"><strong><span style="border:none windowtext 1.0pt\;padding:0in\;"><span style="color:navy\;"><span style="font-family:arial narrow\,sans-serif\;"><span style="font-size:11.5pt\;">&ndash\;&nbsp\;</span></span></span></span></strong></em><strong style="outline:0px\;"><span style="border:none windowtext 1.0pt\;padding:0in\;"><span style="color:navy\;"><span style="font-family:arial narrow\,sans-serif\;"><span style="font-size:11.5pt\;">Economic Development</span></span></span></span></strong><br />\n<em style="outline:0px\;"><span style="border:none windowtext 1.0pt\;padding:0in\;"><span style="color:navy\;"><span style="font-family:arial narrow\,sans-serif\;"><span style="font-size:11.5pt\;">Recognizes an individual or organization for on-going improvement encouraging continued economic development in the area.</span></span></span></span></em><br />\n<font color="#000080" face="arial narrow\, sans-serif"><span style="font-size: 15.3333px\;"><b>C&amp\;M Forwarding</b></span></font><br />\n&nbsp\;<br />\n<strong style="outline:0px\;"><span style="border:none windowtext 1.0pt\;padding:0in\;"><span style="color:navy\;"><span style="font-family:arial narrow\,sans-serif\;"><span style="font-size:11.5pt\;">Innovative Business Award</span></span></span></span></strong><br />\n<em style="outline:0px\;"><span style="border:none windowtext 1.0pt\;padding:0in\;"><span style="color:navy\;"><span style="font-family:arial narrow\,sans-serif\;"><span style="font-size:11.5pt\;">Acknowledges an existing or recent addition to the business community which has stimulated economic growth and commerce\, with regards to product demand and originality of the enterprise.</span></span></span></span></em><br />\n<font color="#000080" face="arial narrow\, sans-serif"><span style="font-size: 15.3333px\;"><b>Micron Technologies</b></span></font><br />\n&nbsp\;<br />\n<strong style="outline:0px\;"><span style="border:none windowtext 1.0pt\;padding:0in\;"><span style="color:navy\;"><span style="font-family:arial narrow\,sans-serif\;"><span style="font-size:11.5pt\;">Culture and Arts Award</span></span></span></span></strong><br />\n<em style="outline:0px\;"><span style="border:none windowtext 1.0pt\;padding:0in\;"><span style="color:navy\;"><span style="font-family:arial narrow\,sans-serif\;"><span style="font-size:11.5pt\;">Recognizes an individual or organization whose talents or patronage have strengthened the understanding\, appreciation\, and support of art and culture as an integral part of community life.</span></span></span></span></em><br />\n<font color="#000080" face="arial narrow\, sans-serif"><span style="font-size: 15.3333px\;"><b>East Coast Training Center</b></span></font><br />\n&nbsp\;<br />\n<strong style="outline:0px\;"><span style="border:none windowtext 1.0pt\;padding:0in\;"><span style="color:navy\;"><span style="font-family:arial narrow\,sans-serif\;"><span style="font-size:11.5pt\;">Outstanding Citizen</span></span></span></span></strong><br />\n<em style="outline:0px\;"><span style="border:none windowtext 1.0pt\;padding:0in\;"><span style="color:navy\;"><span style="font-family:arial narrow\,sans-serif\;"><span style="font-size:11.5pt\;">Recognizes an individual located in or servicing the Gates and Chili area\, who has contributed to the betterment of the community.</span></span></span></span></em><br />\n<strong style="outline:0px\;"><span style="border:none windowtext 1.0pt\;padding:0in\;"><span style="color:navy\;"><span style="font-family:arial narrow\,sans-serif\;"><span style="font-size:11.5pt\;">Krystin Letta&nbsp\;</span></span></span></span></strong><br />\n&nbsp\;<br />\n<strong style="outline:0px\;"><span style="border:none windowtext 1.0pt\;padding:0in\;"><span style="color:navy\;"><span style="font-family:arial narrow\,sans-serif\;"><span style="font-size:11.5pt\;">Youth Leadership Award</span></span></span></span></strong><br />\n<em style="outline:0px\;"><span style="border:none windowtext 1.0pt\;padding:0in\;"><span style="color:navy\;"><span style="font-family:arial narrow\,sans-serif\;"><span style="font-size:11.5pt\;">Acknowledges a youth group or individual (21 years or under) who lives or works in the Gates and Chili area who has provided leadership in a business or business association\, community service to others and serves as a role model among their peers.</span></span></span></span></em><br />\n<span style="color:navy\;"><span style="font-family:arial narrow\,sans-serif\;"><span style="font-size:11.5pt\;"><b>Brooke Leary</b><br />\n&nbsp\;</span></span></span><br />\n<strong style="outline:0px\;"><span style="border:none windowtext 1.0pt\;padding:0in\;"><span style="color:navy\;"><span style="font-family:arial narrow\,sans-serif\;"><span style="font-size:11.5pt\;">Dream Big Award&nbsp\;-&nbsp\;Small Business of the Year Award</span></span></span></span></strong><br />\n<em style="outline:0px\;"><span style="border:none windowtext 1.0pt\;padding:0in\;"><span style="color:navy\;"><span style="font-family:arial narrow\,sans-serif\;"><span style="font-size:11.5pt\;">This award embodies the Spirit of Innovation-they often start small but DREAM BIG. We applaud the example they set and the enormous contribution they make to our area&rsquo\;s economy.</span></span></span></span></em><br />\n<font color="#000080" face="arial narrow\, sans-serif"><span style="font-size: 15.3333px\;"><b>Lunt Chiropractic</b></span></font><br />\n&nbsp\;<br />\n<strong style="outline:0px\;"><span style="border:none windowtext 1.0pt\;padding:0in\;"><span style="color:navy\;"><span style="font-family:arial narrow\,sans-serif\;"><span style="font-size:11.5pt\;">Young Professionals Award</span></span></span></span></strong><br />\n<em style="outline:0px\;"><span style="border:none windowtext 1.0pt\;padding:0in\;"><span style="color:navy\;"><span style="font-family:arial narrow\,sans-serif\;"><span style="font-size:11.5pt\;">Acknowledges an emerging leader between the ages of 22 and 36 who demonstrates excellence\, creativity\, and initiative in their business or profession\, has a proven commitment to service by contributing time and energy to improving the quality of life of others in the community and serves as a role model both personally and professionally.</span></span></span></span></em><br />\n<font color="#000080" face="arial narrow\, sans-serif"><span style="font-size: 15.3333px\;"><b>Jeremy Sajdak</b></span></font><br />\n&nbsp\;<br />\n<strong style="outline:0px\;"><span style="border:none windowtext 1.0pt\;padding:0in\;"><span style="color:navy\;"><span style="font-family:arial narrow\,sans-serif\;"><span style="font-size:11.5pt\;">Loretta Simmons Women&#39\;s Leadership Award</span></span></span></span></strong><br />\n<span style="color:navy\;"><span style="font-family:arial narrow\,sans-serif\;"><span style="font-size:11.5pt\;">Named after the Chamber&rsquo\;s first president\, this award honors women in leadership roles throughout the area who contribute to the betterment of the community.</span></span></span><br />\n<span style="color:navy\;"><span style="font-family:arial narrow\,sans-serif\;"><span style="font-size:11.5pt\;"><strong style="outline:0px\;"><span style="border:1pt none windowtext\;padding:0in\;">Tracy DiFlorio</span></strong></span></span></span><br />\n<br />\nBelow are some photos taken of the award presentations made to our 2020 award winners.&nbsp\;<br />\n&nbsp\;&nbsp\;&nbsp\;&nbsp\;&nbsp\;&nbsp\;&nbsp\;&nbsp\;&nbsp\;&nbsp\;&nbsp\;&nbsp\;&nbsp\;&nbsp\;&nbsp\;&nbsp\;&nbsp\;&nbsp\;&nbsp\;&nbsp\;&nbsp\;&nbsp\;&nbsp\;&nbsp\;&nbsp\;&nbsp\;&nbsp\;&nbsp\;&nbsp\;&nbsp\;&nbsp\;&nbsp\;&nbsp\; &nbsp\;&nbsp\;<br />\n&nbsp\;&nbsp\;&nbsp\;&nbsp\;&nbsp\;&nbsp\;&nbsp\;&nbsp\;&nbsp\;&nbsp\;&nbsp\;&nbsp\;&nbsp\;&nbsp\;&nbsp\;&nbsp\;&nbsp\;&nbsp\;&nbsp\;&nbsp\;&nbsp\;&nbsp\;&nbsp\;&nbsp\;&nbsp\;&nbsp\;&nbsp\;&nbsp\;&nbsp\;&nbsp\;&nbsp\;&nbsp\;&nbsp\; &nbsp\;&nbsp\;<br />\n<br />\n<br />\n<br />\n<br />\n<br />\n<br />\n<br />\n&nbsp\;
LOCATION:Brook-Lea Country Club
UID:e.1849.347
SEQUENCE:3
DTSTAMP:20260422T094914Z
URL:http://business.gcchamber.com/events/details/36th-annual-community-awards-dinner-gala-347
END:VEVENT

END:VCALENDAR
